BEGIN:VCALENDAR
VERSION:2.0
PRODID:-//Plone.org//NONSGML plone.app.event//EN
X-WR-TIMEZONE:US/Central
BEGIN:VEVENT
SUMMARY:Library Board Meeting
DTSTART;TZID=US/Central:20231114T170000
DTEND;TZID=US/Central:20231114T180000
DTSTAMP:20260421T124210Z
UID:9dfbf437fcb84184bd1c38dce06ec812@saas_stack_varnish:6080
CREATED:20231113T175046Z
LAST-MODIFIED:20231113T175056Z
URL:https://lebanon-laclede.ploud.net/calendar-news/events/library-board-m
 eeting-1
END:VEVENT
BEGIN:VTIMEZONE
TZID:US/Central
X-LIC-LOCATION:US/Central
BEGIN:STANDARD
DTSTART:20231105T010000
TZNAME:CST
TZOFFSETFROM:-0500
TZOFFSETTO:-0600
END:STANDARD
END:VTIMEZONE
END:VCALENDAR
