BEGIN:VCALENDAR
VERSION:2.0
PRODID:-//Plone.org//NONSGML plone.app.event//EN
X-WR-TIMEZONE:US/Central
BEGIN:VEVENT
SUMMARY:Library Board Meeting
DTSTART;TZID=US/Central:20241217T160000
DTEND;TZID=US/Central:20241217T170000
DTSTAMP:20260421T221801Z
UID:f49e4adf18e44959beee21e282c969c4@saas_stack_varnish:6080
CREATED:20241217T174648Z
LAST-MODIFIED:20241217T183618Z
URL:https://lebanon-laclede.ploud.net/calendar-news/events/library-board-m
 eeting-2
END:VEVENT
BEGIN:VTIMEZONE
TZID:US/Central
X-LIC-LOCATION:US/Central
BEGIN:STANDARD
DTSTART:20241103T010000
TZNAME:CST
TZOFFSETFROM:-0500
TZOFFSETTO:-0600
END:STANDARD
END:VTIMEZONE
END:VCALENDAR
