BEGIN:VCALENDAR
VERSION:2.0
PRODID:-//Plone.org//NONSGML plone.app.event//EN
X-WR-TIMEZONE:US/Central
BEGIN:VEVENT
SUMMARY:Library Christmas Movie Special: Elf
DTSTART;TZID=US/Central:20231218T180000
DTEND;TZID=US/Central:20231218T200000
DTSTAMP:20260421T142553Z
UID:5c891bcac3ae4f1bb1ef2eeeb30ff777@saas_stack_varnish:6080
CREATED:20231109T173647Z
LAST-MODIFIED:20231109T173703Z
URL:https://lebanon-laclede.ploud.net/calendar-news/events/library-christm
 as-movie-special-elf
END:VEVENT
BEGIN:VTIMEZONE
TZID:US/Central
X-LIC-LOCATION:US/Central
BEGIN:STANDARD
DTSTART:20231105T010000
TZNAME:CST
TZOFFSETFROM:-0500
TZOFFSETTO:-0600
END:STANDARD
END:VTIMEZONE
END:VCALENDAR
