BEGIN:VCALENDAR
VERSION:2.0
PRODID:-//Plone.org//NONSGML plone.app.event//EN
X-WR-TIMEZONE:US/Central
BEGIN:VEVENT
SUMMARY:Library Closed 8am-10am- Staff Meeting
DTSTART;TZID=US/Central:20251219T150000
DTEND;TZID=US/Central:20251219T160000
DTSTAMP:20260421T095107Z
UID:364d362cda5843759d7dabb205ec662b@saas_stack_varnish:6080
CREATED:20251119T210349Z
LAST-MODIFIED:20251119T211326Z
URL:https://lebanon-laclede.ploud.net/calendar-news/events/library-closed-
 8am-10am-staff-meeting-1
END:VEVENT
BEGIN:VTIMEZONE
TZID:US/Central
X-LIC-LOCATION:US/Central
BEGIN:STANDARD
DTSTART:20251102T010000
TZNAME:CST
TZOFFSETFROM:-0500
TZOFFSETTO:-0600
END:STANDARD
END:VTIMEZONE
END:VCALENDAR
