BEGIN:VCALENDAR
VERSION:2.0
PRODID:-//Plone.org//NONSGML plone.app.event//EN
X-WR-TIMEZONE:US/Central
BEGIN:VEVENT
SUMMARY:Library Closed 8am-10am- Staff Meeting
DTSTART;TZID=US/Central:20250418T080000
DTEND;TZID=US/Central:20250418T100000
DTSTAMP:20260421T191354Z
UID:08afc91ea82949a09282b41c7ce1010d@saas_stack_varnish:6080
CREATED:20241230T193750Z
LAST-MODIFIED:20251119T204523Z
URL:https://lebanon-laclede.ploud.net/calendar-news/events/library-closed-
 8am-10am-staff-meeting/2025-04-18
END:VEVENT
BEGIN:VTIMEZONE
TZID:US/Central
X-LIC-LOCATION:US/Central
BEGIN:DAYLIGHT
DTSTART:20250309T030000
TZNAME:CDT
TZOFFSETFROM:-0600
TZOFFSETTO:-0500
END:DAYLIGHT
END:VTIMEZONE
END:VCALENDAR
