BEGIN:VCALENDAR
VERSION:2.0
PRODID:-//Plone.org//NONSGML plone.app.event//EN
X-WR-TIMEZONE:US/Central
BEGIN:VEVENT
SUMMARY:Library Closed 8am-10am- Staff Meeting
DTSTART;TZID=US/Central:20250131T080000
DTEND;TZID=US/Central:20250131T100000
DTSTAMP:20260421T112548Z
UID:08afc91ea82949a09282b41c7ce1010d@saas_stack_varnish:6080
RRULE:FREQ=MONTHLY;COUNT=12;BYDAY=-1FR
EXDATE;TZID=US/Central:20250425T000000,20251128T000000,20251226T000000
CREATED:20241230T193750Z
LAST-MODIFIED:20251119T204523Z
URL:https://lebanon-laclede.ploud.net/calendar-news/events/library-closed-
 8am-10am-staff-meeting
END:VEVENT
BEGIN:VTIMEZONE
TZID:US/Central
X-LIC-LOCATION:US/Central
BEGIN:STANDARD
DTSTART:20241103T010000
TZNAME:CST
TZOFFSETFROM:-0500
TZOFFSETTO:-0600
END:STANDARD
END:VTIMEZONE
END:VCALENDAR
