BEGIN:VCALENDAR
VERSION:2.0
PRODID:-//Plone.org//NONSGML plone.app.event//EN
X-WR-TIMEZONE:US/Central
BEGIN:VEVENT
SUMMARY:Library Closed for Christmas Eve
DTSTART;VALUE=DATE:20231222
DTEND;VALUE=DATE:20231224
DTSTAMP:20260421T142353Z
UID:2c592c9499f34cb68eb25ffd9c56dd08@saas_stack_varnish:6080
CREATED:20231221T152209Z
LAST-MODIFIED:20231221T152220Z
URL:https://lebanon-laclede.ploud.net/calendar-news/events/library-closed-
 for-christmas-eve
END:VEVENT
END:VCALENDAR
