BEGIN:VCALENDAR
VERSION:2.0
PRODID:-//Plone.org//NONSGML plone.app.event//EN
X-WR-TIMEZONE:US/Central
BEGIN:VEVENT
SUMMARY:Library Closed for Juneteenth
DTSTART;VALUE=DATE:20240619
DTEND;VALUE=DATE:20240620
DTSTAMP:20260421T202532Z
UID:6af56684c88e4b2099db9d68dd96187a@saas_stack_varnish:6080
CREATED:20240529T221144Z
LAST-MODIFIED:20240529T221159Z
URL:https://lebanon-laclede.ploud.net/calendar-news/events/library-closed-
 for-juneteenth
END:VEVENT
END:VCALENDAR
