BEGIN:VCALENDAR
VERSION:2.0
PRODID:-//Plone.org//NONSGML plone.app.event//EN
X-WR-TIMEZONE:US/Central
BEGIN:VEVENT
SUMMARY:Library Closed for New Year Eve
DTSTART;VALUE=DATE:20231229
DTEND;VALUE=DATE:20231231
DTSTAMP:20260421T154534Z
UID:664c3bff2cbc4c7ba59120683041b1c9@saas_stack_varnish:6080
CREATED:20231221T152430Z
LAST-MODIFIED:20231221T152453Z
URL:https://lebanon-laclede.ploud.net/calendar-news/events/library-closed-
 for-new-year-eve
END:VEVENT
END:VCALENDAR
