BEGIN:VCALENDAR
VERSION:2.0
PRODID:-//Plone.org//NONSGML plone.app.event//EN
X-WR-TIMEZONE:US/Central
BEGIN:VEVENT
SUMMARY:Library Staff Meeting
DTSTART;TZID=US/Central:20231020T080000
DTEND;TZID=US/Central:20231020T100000
DTSTAMP:20260421T125053Z
UID:5165d4c663ea4dfc908e76618fec9db9@saas_stack_varnish:6080
CREATED:20230912T172015Z
LAST-MODIFIED:20230912T172031Z
URL:https://lebanon-laclede.ploud.net/calendar-news/events/library-staff-m
 eeting-1
END:VEVENT
BEGIN:VTIMEZONE
TZID:US/Central
X-LIC-LOCATION:US/Central
BEGIN:DAYLIGHT
DTSTART:20230312T030000
TZNAME:CDT
TZOFFSETFROM:-0600
TZOFFSETTO:-0500
END:DAYLIGHT
END:VTIMEZONE
END:VCALENDAR
