BEGIN:VCALENDAR
VERSION:2.0
PRODID:-//Plone.org//NONSGML plone.app.event//EN
X-WR-TIMEZONE:US/Central
BEGIN:VEVENT
SUMMARY:Library Staff Meeting
DTSTART;TZID=US/Central:20240927T080000
DTEND;TZID=US/Central:20240927T100000
DTSTAMP:20260421T234406Z
UID:98015beedff347539346d3cac75d19da@saas_stack_varnish:6080
CREATED:20240922T020420Z
LAST-MODIFIED:20240922T020428Z
URL:https://lebanon-laclede.ploud.net/calendar-news/events/library-staff-m
 eeting-2
END:VEVENT
BEGIN:VTIMEZONE
TZID:US/Central
X-LIC-LOCATION:US/Central
BEGIN:DAYLIGHT
DTSTART:20240310T030000
TZNAME:CDT
TZOFFSETFROM:-0600
TZOFFSETTO:-0500
END:DAYLIGHT
END:VTIMEZONE
END:VCALENDAR
