BEGIN:VCALENDAR
VERSION:2.0
PRODID:-//Plone.org//NONSGML plone.app.event//EN
X-WR-TIMEZONE:US/Central
BEGIN:VEVENT
SUMMARY:Library Staff Meeting
DTSTART;TZID=US/Central:20231117T080000
DTEND;TZID=US/Central:20231117T100000
DTSTAMP:20260421T142152Z
UID:853de362dd8e49dc93e5433eeac3fb7a@saas_stack_varnish:6080
CREATED:20231109T172038Z
LAST-MODIFIED:20231109T172047Z
URL:https://lebanon-laclede.ploud.net/calendar-news/events/library-staff-m
 eeting-3
END:VEVENT
BEGIN:VTIMEZONE
TZID:US/Central
X-LIC-LOCATION:US/Central
BEGIN:STANDARD
DTSTART:20231105T010000
TZNAME:CST
TZOFFSETFROM:-0500
TZOFFSETTO:-0600
END:STANDARD
END:VTIMEZONE
END:VCALENDAR
