BEGIN:VCALENDAR
VERSION:2.0
PRODID:-//Plone.org//NONSGML plone.app.event//EN
X-WR-TIMEZONE:US/Central
BEGIN:VEVENT
SUMMARY:Library Staff Meeting
DTSTART;TZID=US/Central:20230922T080000
DTEND;TZID=US/Central:20230922T100000
DTSTAMP:20260421T111016Z
UID:ab00c28f3a794cfdb7f5be62d66d9172@saas_stack_varnish:6080
CREATED:20230912T171647Z
LAST-MODIFIED:20230912T171658Z
URL:https://lebanon-laclede.ploud.net/calendar-news/events/library-staff-m
 eeting
END:VEVENT
BEGIN:VTIMEZONE
TZID:US/Central
X-LIC-LOCATION:US/Central
BEGIN:DAYLIGHT
DTSTART:20230312T030000
TZNAME:CDT
TZOFFSETFROM:-0600
TZOFFSETTO:-0500
END:DAYLIGHT
END:VTIMEZONE
END:VCALENDAR
