BEGIN:VCALENDAR
VERSION:2.0
PRODID:-//Plone.org//NONSGML plone.app.event//EN
X-WR-TIMEZONE:US/Central
BEGIN:VEVENT
SUMMARY:Little Gardeners
DTSTART;TZID=US/Central:20240710T100000
DTEND;TZID=US/Central:20240710T110000
DTSTAMP:20260421T202922Z
UID:be5c4ab01f8c4f2aaffaac86320f3c37@saas_stack_varnish:6080
CREATED:20240529T222912Z
LAST-MODIFIED:20240529T222957Z
URL:https://lebanon-laclede.ploud.net/calendar-news/events/little-gardener
 s-1
END:VEVENT
BEGIN:VTIMEZONE
TZID:US/Central
X-LIC-LOCATION:US/Central
BEGIN:DAYLIGHT
DTSTART:20240310T030000
TZNAME:CDT
TZOFFSETFROM:-0600
TZOFFSETTO:-0500
END:DAYLIGHT
END:VTIMEZONE
END:VCALENDAR
