BEGIN:VCALENDAR
VERSION:2.0
PRODID:-//Plone.org//NONSGML plone.app.event//EN
X-WR-TIMEZONE:US/Central
BEGIN:VEVENT
SUMMARY:Little Gardeners
DTSTART;TZID=US/Central:20240724T100000
DTEND;TZID=US/Central:20240724T110000
DTSTAMP:20260421T215815Z
UID:50d6b6cd166145dd9fad7557ec2d18d7@saas_stack_varnish:6080
CREATED:20240629T154540Z
LAST-MODIFIED:20240629T154551Z
URL:https://lebanon-laclede.ploud.net/calendar-news/events/little-gardener
 s-2
END:VEVENT
BEGIN:VTIMEZONE
TZID:US/Central
X-LIC-LOCATION:US/Central
BEGIN:DAYLIGHT
DTSTART:20240310T030000
TZNAME:CDT
TZOFFSETFROM:-0600
TZOFFSETTO:-0500
END:DAYLIGHT
END:VTIMEZONE
END:VCALENDAR
