BEGIN:VCALENDAR
VERSION:2.0
PRODID:-//Plone.org//NONSGML plone.app.event//EN
X-WR-TIMEZONE:US/Central
BEGIN:VEVENT
SUMMARY:Little Gardeners
DTSTART;TZID=US/Central:20250709T100000
DTEND;TZID=US/Central:20250709T110000
DTSTAMP:20260421T154533Z
UID:490c03f0ef35411ea623e5d3a63b5f69@saas_stack_varnish:6080
CREATED:20250604T202845Z
LAST-MODIFIED:20250604T203214Z
URL:https://lebanon-laclede.ploud.net/calendar-news/events/little-gardener
 s-4
END:VEVENT
BEGIN:VTIMEZONE
TZID:US/Central
X-LIC-LOCATION:US/Central
BEGIN:DAYLIGHT
DTSTART:20250309T030000
TZNAME:CDT
TZOFFSETFROM:-0600
TZOFFSETTO:-0500
END:DAYLIGHT
END:VTIMEZONE
END:VCALENDAR
