BEGIN:VCALENDAR
VERSION:2.0
PRODID:-//Plone.org//NONSGML plone.app.event//EN
X-WR-TIMEZONE:US/Central
BEGIN:VEVENT
SUMMARY:Little Gardeners
DTSTART;TZID=US/Central:20240605T100000
DTEND;TZID=US/Central:20240605T110000
DTSTAMP:20260421T190111Z
UID:777967196ab44f32b1dcfd87422a5876@saas_stack_varnish:6080
CREATED:20240430T203333Z
LAST-MODIFIED:20240430T203341Z
URL:https://lebanon-laclede.ploud.net/calendar-news/events/little-gardener
 s
END:VEVENT
BEGIN:VTIMEZONE
TZID:US/Central
X-LIC-LOCATION:US/Central
BEGIN:DAYLIGHT
DTSTART:20240310T030000
TZNAME:CDT
TZOFFSETFROM:-0600
TZOFFSETTO:-0500
END:DAYLIGHT
END:VTIMEZONE
END:VCALENDAR
