BEGIN:VCALENDAR
VERSION:2.0
PRODID:-//Plone.org//NONSGML plone.app.event//EN
X-WR-TIMEZONE:US/Central
BEGIN:VEVENT
SUMMARY:Little Gardners
DTSTART;TZID=US/Central:20230607T100000
DTEND;TZID=US/Central:20230607T110000
DTSTAMP:20260421T111000Z
UID:8f1d2eeddf084662af3d692a037174c4@saas_stack_varnish:6080
CONTACT:4175322148
CREATED:20230524T174551Z
LAST-MODIFIED:20230524T174628Z
LOCATION:Lebanon-Laclede County Library in Andys room
URL:https://lebanon-laclede.ploud.net/calendar-news/events/little-gardners
END:VEVENT
BEGIN:VTIMEZONE
TZID:US/Central
X-LIC-LOCATION:US/Central
BEGIN:DAYLIGHT
DTSTART:20230312T030000
TZNAME:CDT
TZOFFSETFROM:-0600
TZOFFSETTO:-0500
END:DAYLIGHT
END:VTIMEZONE
END:VCALENDAR
