BEGIN:VCALENDAR
VERSION:2.0
PRODID:-//Plone.org//NONSGML plone.app.event//EN
X-WR-TIMEZONE:US/Central
BEGIN:VEVENT
SUMMARY:Local Author Event with Lois Curran
DTSTART;TZID=US/Central:20260328T110000
DTEND;TZID=US/Central:20260328T130000
DTSTAMP:20260421T081324Z
UID:2acc8d5bc50b4298a07224255fa8266c@saas_stack_varnish:6080
CREATED:20260306T162825Z
LAST-MODIFIED:20260306T162840Z
URL:https://lebanon-laclede.ploud.net/calendar-news/events/local-author-ev
 ent-with-lois-curran
END:VEVENT
BEGIN:VTIMEZONE
TZID:US/Central
X-LIC-LOCATION:US/Central
BEGIN:DAYLIGHT
DTSTART:20260308T030000
TZNAME:CDT
TZOFFSETFROM:-0600
TZOFFSETTO:-0500
END:DAYLIGHT
END:VTIMEZONE
END:VCALENDAR
