BEGIN:VCALENDAR
VERSION:2.0
PRODID:-//Plone.org//NONSGML plone.app.event//EN
X-WR-TIMEZONE:US/Central
BEGIN:VEVENT
SUMMARY:Mad Hatter's Tea Party!
DTSTART;TZID=US/Central:20240831T130000
DTEND;TZID=US/Central:20240831T150000
DTSTAMP:20260421T232803Z
UID:ec0c8fba0e6c4d12be43f6917eb55780@saas_stack_varnish:6080
CREATED:20240806T165121Z
LAST-MODIFIED:20240806T165128Z
URL:https://lebanon-laclede.ploud.net/calendar-news/events/mad-hatters-tea
 -party
END:VEVENT
BEGIN:VTIMEZONE
TZID:US/Central
X-LIC-LOCATION:US/Central
BEGIN:DAYLIGHT
DTSTART:20240310T030000
TZNAME:CDT
TZOFFSETFROM:-0600
TZOFFSETTO:-0500
END:DAYLIGHT
END:VTIMEZONE
END:VCALENDAR
