BEGIN:VCALENDAR
VERSION:2.0
PRODID:-//Plone.org//NONSGML plone.app.event//EN
X-WR-TIMEZONE:US/Central
BEGIN:VEVENT
SUMMARY:Magic Waters and Silver Dollars: A History of Ozark Tourism
DTSTART;TZID=US/Central:20240604T180000
DTEND;TZID=US/Central:20240604T200000
DTSTAMP:20260421T191342Z
UID:7603f886ea7447338eff7eb643d81b08@saas_stack_varnish:6080
CREATED:20240529T214716Z
LAST-MODIFIED:20240529T214725Z
URL:https://lebanon-laclede.ploud.net/calendar-news/events/magic-waters-an
 d-silver-dollars-a-history-of-ozark-tourism
END:VEVENT
BEGIN:VTIMEZONE
TZID:US/Central
X-LIC-LOCATION:US/Central
BEGIN:DAYLIGHT
DTSTART:20240310T030000
TZNAME:CDT
TZOFFSETFROM:-0600
TZOFFSETTO:-0500
END:DAYLIGHT
END:VTIMEZONE
END:VCALENDAR
