BEGIN:VCALENDAR
VERSION:2.0
PRODID:-//Plone.org//NONSGML plone.app.event//EN
X-WR-TIMEZONE:US/Central
BEGIN:VEVENT
SUMMARY:Martin Luther King Jr. Day: Library closed
DTSTART;VALUE=DATE:20260119
DTEND;VALUE=DATE:20260120
DTSTAMP:20260419T132320Z
UID:7b28b11866754286922bee4ac80fede0@saas_stack_varnish:6080
CATEGORIES:closed
CREATED:20220418T161106Z
DESCRIPTION:The library will be closed in observance of Martin Luther King
  Jr. Day.
LAST-MODIFIED:20221123T144936Z
URL:https://lebanon-laclede.ploud.net/calendar-news/events/martin-luther-k
 ing-jr-day-library-closed/2026-01-19
END:VEVENT
END:VCALENDAR
