BEGIN:VCALENDAR
VERSION:2.0
PRODID:-//Plone.org//NONSGML plone.app.event//EN
X-WR-TIMEZONE:US/Central
BEGIN:VEVENT
SUMMARY:Marty the Magician Summer Kick-Off
DTSTART;TZID=US/Central:20250527T100000
DTEND;TZID=US/Central:20250527T110000
DTSTAMP:20260421T172429Z
UID:fd3187d5e3ad44aa881d30c6ab202c83@saas_stack_varnish:6080
CREATED:20250424T035725Z
LAST-MODIFIED:20250428T033341Z
URL:https://lebanon-laclede.ploud.net/calendar-news/events/marty-the-magic
 ian-summer-kick-off-1
END:VEVENT
BEGIN:VTIMEZONE
TZID:US/Central
X-LIC-LOCATION:US/Central
BEGIN:DAYLIGHT
DTSTART:20250309T030000
TZNAME:CDT
TZOFFSETFROM:-0600
TZOFFSETTO:-0500
END:DAYLIGHT
END:VTIMEZONE
END:VCALENDAR
