BEGIN:VCALENDAR
VERSION:2.0
PRODID:-//Plone.org//NONSGML plone.app.event//EN
X-WR-TIMEZONE:US/Central
BEGIN:VEVENT
SUMMARY:Marty the Magician Summer Kick-Off
DTSTART;TZID=US/Central:20240528T100000
DTEND;TZID=US/Central:20240528T110000
DTSTAMP:20260421T190308Z
UID:8cbab9bc55224471bc244f9064fdffea@saas_stack_varnish:6080
CREATED:20240430T191423Z
LAST-MODIFIED:20240430T191433Z
URL:https://lebanon-laclede.ploud.net/calendar-news/events/marty-the-magic
 ian-summer-kick-off
END:VEVENT
BEGIN:VTIMEZONE
TZID:US/Central
X-LIC-LOCATION:US/Central
BEGIN:DAYLIGHT
DTSTART:20240310T030000
TZNAME:CDT
TZOFFSETFROM:-0600
TZOFFSETTO:-0500
END:DAYLIGHT
END:VTIMEZONE
END:VCALENDAR
