BEGIN:VCALENDAR
VERSION:2.0
PRODID:-//Plone.org//NONSGML plone.app.event//EN
X-WR-TIMEZONE:US/Central
BEGIN:VEVENT
SUMMARY:Marty the Magician
DTSTART;TZID=US/Central:20230530T100000
DTEND;TZID=US/Central:20230530T110000
DTSTAMP:20260421T093927Z
UID:15fe470a891d4815a34ff406e61d59e6@saas_stack_varnish:6080
CONTACT:4175322148
CREATED:20230524T160425Z
LAST-MODIFIED:20230524T185411Z
LOCATION:library meeting rooms
URL:https://lebanon-laclede.ploud.net/calendar-news/events/marty-the-magic
 ian
END:VEVENT
BEGIN:VTIMEZONE
TZID:US/Central
X-LIC-LOCATION:US/Central
BEGIN:DAYLIGHT
DTSTART:20230312T030000
TZNAME:CDT
TZOFFSETFROM:-0600
TZOFFSETTO:-0500
END:DAYLIGHT
END:VTIMEZONE
END:VCALENDAR
