BEGIN:VCALENDAR
VERSION:2.0
PRODID:-//Plone.org//NONSGML plone.app.event//EN
X-WR-TIMEZONE:US/Central
BEGIN:VEVENT
SUMMARY:Midnight at the Masquerade-Hosted by LLCPLF
DTSTART;TZID=US/Central:20240926T180000
DTEND;TZID=US/Central:20240926T210000
DTSTAMP:20260421T232837Z
UID:c56d3903233d4fee9410f600ac7cf92f@saas_stack_varnish:6080
CONTACT:Lebanon-Laclede County Public Library Foundation
CREATED:20240313T031819Z
LAST-MODIFIED:20240313T031828Z
LOCATION:Cowan Civic Center
URL:https://lebanon-laclede.ploud.net/calendar-news/events/midnight-at-the
 -masquerade-hosted-by-llcplf
END:VEVENT
BEGIN:VTIMEZONE
TZID:US/Central
X-LIC-LOCATION:US/Central
BEGIN:DAYLIGHT
DTSTART:20240310T030000
TZNAME:CDT
TZOFFSETFROM:-0600
TZOFFSETTO:-0500
END:DAYLIGHT
END:VTIMEZONE
END:VCALENDAR
