BEGIN:VCALENDAR
VERSION:2.0
PRODID:-//Plone.org//NONSGML plone.app.event//EN
X-WR-TIMEZONE:US/Central
BEGIN:VEVENT
SUMMARY:Missouri Department of Conservation Agent
DTSTART;TZID=US/Central:20230711T100000
DTEND;TZID=US/Central:20230711T110000
DTSTAMP:20260421T095310Z
UID:0993ab95b8734fffb25068b3a7eca9fe@saas_stack_varnish:6080
CONTACT:4175322148
CREATED:20230524T183330Z
LAST-MODIFIED:20230524T183340Z
LOCATION:Library meeting rooms
URL:https://lebanon-laclede.ploud.net/calendar-news/events/missouri-depart
 ment-of-conservation-agent
END:VEVENT
BEGIN:VTIMEZONE
TZID:US/Central
X-LIC-LOCATION:US/Central
BEGIN:DAYLIGHT
DTSTART:20230312T030000
TZNAME:CDT
TZOFFSETFROM:-0600
TZOFFSETTO:-0500
END:DAYLIGHT
END:VTIMEZONE
END:VCALENDAR
