BEGIN:VCALENDAR
VERSION:2.0
PRODID:-//Plone.org//NONSGML plone.app.event//EN
X-WR-TIMEZONE:US/Central
BEGIN:VEVENT
SUMMARY:Missouri State Park Rangers: Hug a Tree Program
DTSTART;TZID=US/Central:20230613T100000
DTEND;TZID=US/Central:20230613T110000
DTSTAMP:20260421T111045Z
UID:41f5e650be6448129b3d978d7da27bb3@saas_stack_varnish:6080
CONTACT:4175322148
CREATED:20230524T180021Z
LAST-MODIFIED:20230524T180037Z
LOCATION:Library meeting rooms
URL:https://lebanon-laclede.ploud.net/calendar-news/events/missouri-state-
 park-rangers-hug-a-tree-program
END:VEVENT
BEGIN:VTIMEZONE
TZID:US/Central
X-LIC-LOCATION:US/Central
BEGIN:DAYLIGHT
DTSTART:20230312T030000
TZNAME:CDT
TZOFFSETFROM:-0600
TZOFFSETTO:-0500
END:DAYLIGHT
END:VTIMEZONE
END:VCALENDAR
