BEGIN:VCALENDAR
VERSION:2.0
PRODID:-//Plone.org//NONSGML plone.app.event//EN
X-WR-TIMEZONE:US/Central
BEGIN:VEVENT
SUMMARY:Missouri's Natural Heros
DTSTART;TZID=US/Central:20240709T180000
DTEND;TZID=US/Central:20240709T200000
DTSTAMP:20260421T203153Z
UID:ac8ecec7653c4007821d3c2eca76f08f@saas_stack_varnish:6080
CREATED:20240629T152736Z
LAST-MODIFIED:20240629T152809Z
URL:https://lebanon-laclede.ploud.net/calendar-news/events/missouris-natur
 al-heros
END:VEVENT
BEGIN:VTIMEZONE
TZID:US/Central
X-LIC-LOCATION:US/Central
BEGIN:DAYLIGHT
DTSTART:20240310T030000
TZNAME:CDT
TZOFFSETFROM:-0600
TZOFFSETTO:-0500
END:DAYLIGHT
END:VTIMEZONE
END:VCALENDAR
