BEGIN:VCALENDAR
VERSION:2.0
PRODID:-//Plone.org//NONSGML plone.app.event//EN
X-WR-TIMEZONE:US/Central
BEGIN:VEVENT
SUMMARY:Mo Department of Conservation Agent
DTSTART;TZID=US/Central:20240709T100000
DTEND;TZID=US/Central:20240709T110000
DTSTAMP:20260421T203030Z
UID:c82afda9c1264a50b6dfff47376868eb@saas_stack_varnish:6080
CREATED:20240529T222432Z
LAST-MODIFIED:20240529T222441Z
URL:https://lebanon-laclede.ploud.net/calendar-news/events/mo-department-o
 f-conservation-agent
END:VEVENT
BEGIN:VTIMEZONE
TZID:US/Central
X-LIC-LOCATION:US/Central
BEGIN:DAYLIGHT
DTSTART:20240310T030000
TZNAME:CDT
TZOFFSETFROM:-0600
TZOFFSETTO:-0500
END:DAYLIGHT
END:VTIMEZONE
END:VCALENDAR
