BEGIN:VCALENDAR
VERSION:2.0
PRODID:-//Plone.org//NONSGML plone.app.event//EN
X-WR-TIMEZONE:US/Central
BEGIN:VEVENT
SUMMARY:Mo State Park Rangers: "Hug a Tree"
DTSTART;TZID=US/Central:20250610T100000
DTEND;TZID=US/Central:20250610T110000
DTSTAMP:20260421T185916Z
UID:6876741d53d2470892188b99f67a2e37@saas_stack_varnish:6080
CREATED:20250428T034241Z
LAST-MODIFIED:20250428T034253Z
URL:https://lebanon-laclede.ploud.net/calendar-news/events/mo-state-park-r
 angers-hug-a-tree
END:VEVENT
BEGIN:VTIMEZONE
TZID:US/Central
X-LIC-LOCATION:US/Central
BEGIN:DAYLIGHT
DTSTART:20250309T030000
TZNAME:CDT
TZOFFSETFROM:-0600
TZOFFSETTO:-0500
END:DAYLIGHT
END:VTIMEZONE
END:VCALENDAR
