BEGIN:VCALENDAR
VERSION:2.0
PRODID:-//Plone.org//NONSGML plone.app.event//EN
X-WR-TIMEZONE:US/Central
BEGIN:VEVENT
SUMMARY:Monday Meet and Play
DTSTART;TZID=US/Central:20250721T100000
DTEND;TZID=US/Central:20250721T120000
DTSTAMP:20260421T142559Z
UID:4efc3ec064914890851b3aa607ceb7d4@saas_stack_varnish:6080
CREATED:20250501T024628Z
LAST-MODIFIED:20250507T200213Z
URL:https://lebanon-laclede.ploud.net/calendar-news/events/monday-meet-and
 -play-1/2025-07-21
END:VEVENT
BEGIN:VTIMEZONE
TZID:US/Central
X-LIC-LOCATION:US/Central
BEGIN:DAYLIGHT
DTSTART:20250309T030000
TZNAME:CDT
TZOFFSETFROM:-0600
TZOFFSETTO:-0500
END:DAYLIGHT
END:VTIMEZONE
END:VCALENDAR
