BEGIN:VCALENDAR
VERSION:2.0
PRODID:-//Plone.org//NONSGML plone.app.event//EN
X-WR-TIMEZONE:US/Central
BEGIN:VEVENT
SUMMARY:Monday Meet and Play
DTSTART;TZID=US/Central:20240603T100000
DTEND;TZID=US/Central:20240603T120000
DTSTAMP:20260421T185916Z
UID:9a3ba59b98c644a0990904440fdbe792@saas_stack_varnish:6080
RRULE:FREQ=WEEKLY;UNTIL=20240826T000000;BYDAY=MO
EXDATE;TZID=US/Central:20240701T000000,20240805T000000,20240812T000000,202
 40819T000000,20240826T000000
CREATED:20240430T203020Z
LAST-MODIFIED:20240629T162408Z
URL:https://lebanon-laclede.ploud.net/calendar-news/events/monday-meet-and
 -play
END:VEVENT
BEGIN:VTIMEZONE
TZID:US/Central
X-LIC-LOCATION:US/Central
BEGIN:DAYLIGHT
DTSTART:20240310T030000
TZNAME:CDT
TZOFFSETFROM:-0600
TZOFFSETTO:-0500
END:DAYLIGHT
END:VTIMEZONE
END:VCALENDAR
