BEGIN:VCALENDAR
VERSION:2.0
PRODID:-//Plone.org//NONSGML plone.app.event//EN
X-WR-TIMEZONE:US/Central
BEGIN:VEVENT
SUMMARY:More Than Money: Being "Rich" During the Depression
DTSTART;TZID=US/Central:20240716T180000
DTEND;TZID=US/Central:20240716T200000
DTSTAMP:20260421T220135Z
UID:9e7e9115d98046f6be12bf038f053cb5@saas_stack_varnish:6080
CREATED:20240629T153501Z
LAST-MODIFIED:20240629T153516Z
URL:https://lebanon-laclede.ploud.net/calendar-news/events/more-than-money
 -being-rich-during-the-depression
END:VEVENT
BEGIN:VTIMEZONE
TZID:US/Central
X-LIC-LOCATION:US/Central
BEGIN:DAYLIGHT
DTSTART:20240310T030000
TZNAME:CDT
TZOFFSETFROM:-0600
TZOFFSETTO:-0500
END:DAYLIGHT
END:VTIMEZONE
END:VCALENDAR
