BEGIN:VCALENDAR
VERSION:2.0
PRODID:-//Plone.org//NONSGML plone.app.event//EN
X-WR-TIMEZONE:US/Central
BEGIN:VEVENT
SUMMARY:Movie Night in The Parking Lot
DTSTART;TZID=US/Central:20240720T190000
DTEND;TZID=US/Central:20240720T210000
DTSTAMP:20260421T221145Z
UID:e38653a0c8074b61ab5e1867fff64b4a@saas_stack_varnish:6080
CREATED:20240629T162228Z
LAST-MODIFIED:20240629T162236Z
URL:https://lebanon-laclede.ploud.net/calendar-news/events/movie-night-in-
 the-parking-lot
END:VEVENT
BEGIN:VTIMEZONE
TZID:US/Central
X-LIC-LOCATION:US/Central
BEGIN:DAYLIGHT
DTSTART:20240310T030000
TZNAME:CDT
TZOFFSETFROM:-0600
TZOFFSETTO:-0500
END:DAYLIGHT
END:VTIMEZONE
END:VCALENDAR
