BEGIN:VCALENDAR
VERSION:2.0
PRODID:-//Plone.org//NONSGML plone.app.event//EN
X-WR-TIMEZONE:US/Central
BEGIN:VEVENT
SUMMARY:Myrtle McCracken Lillard Book-Give-Away
DTSTART;TZID=US/Central:20240903T080000
DTEND;TZID=US/Central:20240903T200000
DTSTAMP:20260421T233151Z
UID:a050b7f20ee94c2ab65e8b2c6f0b1470@saas_stack_varnish:6080
CREATED:20240806T165330Z
LAST-MODIFIED:20240806T165403Z
URL:https://lebanon-laclede.ploud.net/calendar-news/events/myrtle-mccracke
 n-lillard-book-give-away-1
END:VEVENT
BEGIN:VTIMEZONE
TZID:US/Central
X-LIC-LOCATION:US/Central
BEGIN:DAYLIGHT
DTSTART:20240310T030000
TZNAME:CDT
TZOFFSETFROM:-0600
TZOFFSETTO:-0500
END:DAYLIGHT
END:VTIMEZONE
END:VCALENDAR
