BEGIN:VCALENDAR
VERSION:2.0
PRODID:-//Plone.org//NONSGML plone.app.event//EN
X-WR-TIMEZONE:US/Central
BEGIN:VEVENT
SUMMARY:Myrtle McCracken Lillard Book Give-away
DTSTART;TZID=US/Central:20250902T080000
DTEND;TZID=US/Central:20250902T200000
DTSTAMP:20260421T125437Z
UID:07052271e72a471eba0b5380b8ffdf47@saas_stack_varnish:6080
CREATED:20250819T184429Z
LAST-MODIFIED:20250819T184441Z
URL:https://lebanon-laclede.ploud.net/calendar-news/events/myrtle-mccracke
 n-lillard-book-give-away-2
END:VEVENT
BEGIN:VTIMEZONE
TZID:US/Central
X-LIC-LOCATION:US/Central
BEGIN:DAYLIGHT
DTSTART:20250309T030000
TZNAME:CDT
TZOFFSETFROM:-0600
TZOFFSETTO:-0500
END:DAYLIGHT
END:VTIMEZONE
END:VCALENDAR
