BEGIN:VCALENDAR
VERSION:2.0
PRODID:-//Plone.org//NONSGML plone.app.event//EN
X-WR-TIMEZONE:US/Central
BEGIN:VEVENT
SUMMARY:Myrtle McCracken Lillard Book-Give-Away
DTSTART;TZID=US/Central:20230905T080000
DTEND;TZID=US/Central:20230905T200000
DTSTAMP:20260421T111531Z
UID:b5104da74c074cef946271ee40d2d348@saas_stack_varnish:6080
CONTACT:(417)532-2148
CREATED:20230815T213021Z
LAST-MODIFIED:20230815T213028Z
LOCATION:Lebanon-Laclede County library
URL:https://lebanon-laclede.ploud.net/calendar-news/events/myrtle-mccracke
 n-lillard-book-give-away
END:VEVENT
BEGIN:VTIMEZONE
TZID:US/Central
X-LIC-LOCATION:US/Central
BEGIN:DAYLIGHT
DTSTART:20230312T030000
TZNAME:CDT
TZOFFSETFROM:-0600
TZOFFSETTO:-0500
END:DAYLIGHT
END:VTIMEZONE
END:VCALENDAR
