BEGIN:VCALENDAR
VERSION:2.0
PRODID:-//Plone.org//NONSGML plone.app.event//EN
X-WR-TIMEZONE:US/Central
BEGIN:VEVENT
SUMMARY:Nightingale Poetry Reading
DTSTART;TZID=US/Central:20240418T180000
DTEND;TZID=US/Central:20240418T200000
DTSTAMP:20260421T185929Z
UID:7bc514b790104656af58312796052ab8@saas_stack_varnish:6080
CREATED:20240325T150705Z
LAST-MODIFIED:20240325T150716Z
LOCATION:Lebanon-Laclede County Library
URL:https://lebanon-laclede.ploud.net/calendar-news/events/nightingale-poe
 try-reading
END:VEVENT
BEGIN:VTIMEZONE
TZID:US/Central
X-LIC-LOCATION:US/Central
BEGIN:DAYLIGHT
DTSTART:20240310T030000
TZNAME:CDT
TZOFFSETFROM:-0600
TZOFFSETTO:-0500
END:DAYLIGHT
END:VTIMEZONE
END:VCALENDAR
