BEGIN:VCALENDAR
VERSION:2.0
PRODID:-//Plone.org//NONSGML plone.app.event//EN
X-WR-TIMEZONE:US/Central
BEGIN:VEVENT
SUMMARY:PAWS for Reading
DTSTART;TZID=US/Central:20250215T110000
DTEND;TZID=US/Central:20250215T120000
DTSTAMP:20260421T202546Z
UID:0509584fc57e4187bdb5fac9e2ada100@saas_stack_varnish:6080
CREATED:20250212T195224Z
LAST-MODIFIED:20250212T195407Z
URL:https://lebanon-laclede.ploud.net/calendar-news/events/paws-for-readin
 g-1
END:VEVENT
BEGIN:VTIMEZONE
TZID:US/Central
X-LIC-LOCATION:US/Central
BEGIN:STANDARD
DTSTART:20241103T010000
TZNAME:CST
TZOFFSETFROM:-0500
TZOFFSETTO:-0600
END:STANDARD
END:VTIMEZONE
END:VCALENDAR
