BEGIN:VCALENDAR
VERSION:2.0
PRODID:-//Plone.org//NONSGML plone.app.event//EN
X-WR-TIMEZONE:US/Central
BEGIN:VEVENT
SUMMARY:PAWS for Reading
DTSTART;TZID=US/Central:20250118T110000
DTEND;TZID=US/Central:20250118T120000
DTSTAMP:20260421T215549Z
UID:800ffdd39ce845c4b5a47868b8504871@saas_stack_varnish:6080
CREATED:20241227T142316Z
LAST-MODIFIED:20241227T142333Z
URL:https://lebanon-laclede.ploud.net/calendar-news/events/paws-for-readin
 g
END:VEVENT
BEGIN:VTIMEZONE
TZID:US/Central
X-LIC-LOCATION:US/Central
BEGIN:STANDARD
DTSTART:20241103T010000
TZNAME:CST
TZOFFSETFROM:-0500
TZOFFSETTO:-0600
END:STANDARD
END:VTIMEZONE
END:VCALENDAR
