BEGIN:VCALENDAR
VERSION:2.0
PRODID:-//Plone.org//NONSGML plone.app.event//EN
X-WR-TIMEZONE:US/Central
BEGIN:VEVENT
SUMMARY:Plant Swap
DTSTART;TZID=US/Central:20250503T100000
DTEND;TZID=US/Central:20250503T120000
DTSTAMP:20260421T193018Z
UID:64786bc357fb4b19b3b163869e47ca2d@saas_stack_varnish:6080
CREATED:20250328T152133Z
LAST-MODIFIED:20250328T152143Z
URL:https://lebanon-laclede.ploud.net/calendar-news/events/plant-swap
END:VEVENT
BEGIN:VTIMEZONE
TZID:US/Central
X-LIC-LOCATION:US/Central
BEGIN:DAYLIGHT
DTSTART:20250309T030000
TZNAME:CDT
TZOFFSETFROM:-0600
TZOFFSETTO:-0500
END:DAYLIGHT
END:VTIMEZONE
END:VCALENDAR
