BEGIN:VCALENDAR
VERSION:2.0
PRODID:-//Plone.org//NONSGML plone.app.event//EN
X-WR-TIMEZONE:US/Central
BEGIN:VEVENT
SUMMARY:Polar Express Movie Party
DTSTART;TZID=US/Central:20231205T180000
DTEND;TZID=US/Central:20231205T200000
DTSTAMP:20260421T142516Z
UID:216f29cb16ee47fe892f0d79e2cc36c5@saas_stack_varnish:6080
CREATED:20231121T175112Z
LAST-MODIFIED:20231121T175121Z
URL:https://lebanon-laclede.ploud.net/calendar-news/events/polar-express-m
 ovie-party
END:VEVENT
BEGIN:VTIMEZONE
TZID:US/Central
X-LIC-LOCATION:US/Central
BEGIN:STANDARD
DTSTART:20231105T010000
TZNAME:CST
TZOFFSETFROM:-0500
TZOFFSETTO:-0600
END:STANDARD
END:VTIMEZONE
END:VCALENDAR
