BEGIN:VCALENDAR
VERSION:2.0
PRODID:-//Plone.org//NONSGML plone.app.event//EN
X-WR-TIMEZONE:US/Central
BEGIN:VEVENT
SUMMARY:Reading\, Writing\, and  Community: The Legacy of Missouri’s One
 -Room Schools
DTSTART;TZID=US/Central:20250729T180000
DTEND;TZID=US/Central:20250729T190000
DTSTAMP:20260421T141011Z
UID:eea4cec7427a48759c8bf5ec2c062781@saas_stack_varnish:6080
CREATED:20250501T023943Z
LAST-MODIFIED:20250529T144313Z
URL:https://lebanon-laclede.ploud.net/calendar-news/events/reading-writing
 -and-communication
END:VEVENT
BEGIN:VTIMEZONE
TZID:US/Central
X-LIC-LOCATION:US/Central
BEGIN:DAYLIGHT
DTSTART:20250309T030000
TZNAME:CDT
TZOFFSETFROM:-0600
TZOFFSETTO:-0500
END:DAYLIGHT
END:VTIMEZONE
END:VCALENDAR
