BEGIN:VCALENDAR
VERSION:2.0
PRODID:-//Plone.org//NONSGML plone.app.event//EN
X-WR-TIMEZONE:US/Central
BEGIN:VEVENT
SUMMARY:Roger Varvel: Local Rockhound
DTSTART;TZID=US/Central:20240604T100000
DTEND;TZID=US/Central:20240604T110000
DTSTAMP:20260421T193602Z
UID:f24c3ef2383a4634be9063ecb6e9d02d@saas_stack_varnish:6080
CREATED:20240513T194408Z
LAST-MODIFIED:20240513T194418Z
URL:https://lebanon-laclede.ploud.net/calendar-news/events/roger-varvel-lo
 cal-rockhound
END:VEVENT
BEGIN:VTIMEZONE
TZID:US/Central
X-LIC-LOCATION:US/Central
BEGIN:DAYLIGHT
DTSTART:20240310T030000
TZNAME:CDT
TZOFFSETFROM:-0600
TZOFFSETTO:-0500
END:DAYLIGHT
END:VTIMEZONE
END:VCALENDAR
