BEGIN:VCALENDAR
VERSION:2.0
PRODID:-//Plone.org//NONSGML plone.app.event//EN
X-WR-TIMEZONE:US/Central
BEGIN:VEVENT
SUMMARY:Route 66 Car Show and Museum Tour or Kids
DTSTART;TZID=US/Central:20240611T100000
DTEND;TZID=US/Central:20240611T120000
DTSTAMP:20260421T222330Z
UID:bd253e6b5c4a42559b976a4df0eefd73@saas_stack_varnish:6080
CREATED:20240514T005236Z
LAST-MODIFIED:20240514T005250Z
URL:https://lebanon-laclede.ploud.net/calendar-news/events/route-66-car-sh
 ow-and-museum-tour-or-kids
END:VEVENT
BEGIN:VTIMEZONE
TZID:US/Central
X-LIC-LOCATION:US/Central
BEGIN:DAYLIGHT
DTSTART:20240310T030000
TZNAME:CDT
TZOFFSETFROM:-0600
TZOFFSETTO:-0500
END:DAYLIGHT
END:VTIMEZONE
END:VCALENDAR
