BEGIN:VCALENDAR
VERSION:2.0
PRODID:-//Plone.org//NONSGML plone.app.event//EN
X-WR-TIMEZONE:US/Central
BEGIN:VEVENT
SUMMARY:Running Your Roots: Conducting an Oral History
DTSTART;TZID=US/Central:20240625T180000
DTEND;TZID=US/Central:20240625T190000
DTSTAMP:20260421T203225Z
UID:1ecddb00a2cb4eb188d7f64e919edc88@saas_stack_varnish:6080
CREATED:20240529T221015Z
LAST-MODIFIED:20240529T221024Z
URL:https://lebanon-laclede.ploud.net/calendar-news/events/running-your-ro
 ots-conducting-an-oral-history-1
END:VEVENT
BEGIN:VTIMEZONE
TZID:US/Central
X-LIC-LOCATION:US/Central
BEGIN:DAYLIGHT
DTSTART:20240310T030000
TZNAME:CDT
TZOFFSETFROM:-0600
TZOFFSETTO:-0500
END:DAYLIGHT
END:VTIMEZONE
END:VCALENDAR
