BEGIN:VCALENDAR
VERSION:2.0
PRODID:-//Plone.org//NONSGML plone.app.event//EN
X-WR-TIMEZONE:US/Central
BEGIN:VEVENT
SUMMARY:Running Your Roots: Genealogy 101
DTSTART;TZID=US/Central:20240611T180000
DTEND;TZID=US/Central:20240611T200000
DTSTAMP:20260421T220005Z
UID:13236f9c09634369a4cc7511c61e2feb@saas_stack_varnish:6080
CREATED:20240514T005726Z
LAST-MODIFIED:20240514T005913Z
URL:https://lebanon-laclede.ploud.net/calendar-news/events/running-your-ro
 ots-genealogy-101
END:VEVENT
BEGIN:VTIMEZONE
TZID:US/Central
X-LIC-LOCATION:US/Central
BEGIN:DAYLIGHT
DTSTART:20240310T030000
TZNAME:CDT
TZOFFSETFROM:-0600
TZOFFSETTO:-0500
END:DAYLIGHT
END:VTIMEZONE
END:VCALENDAR
