BEGIN:VCALENDAR
VERSION:2.0
PRODID:-//Plone.org//NONSGML plone.app.event//EN
X-WR-TIMEZONE:US/Central
BEGIN:VEVENT
SUMMARY:Running Your Roots: Preserving Memories and Moments
DTSTART;TZID=US/Central:20240725T180000
DTEND;TZID=US/Central:20240725T200000
DTSTAMP:20260421T220303Z
UID:44c7b87dd29c47ac99603ae48198f98e@saas_stack_varnish:6080
CREATED:20240629T154809Z
LAST-MODIFIED:20240629T154832Z
URL:https://lebanon-laclede.ploud.net/calendar-news/events/running-your-ro
 ots-preserving-memories-and-moments
END:VEVENT
BEGIN:VTIMEZONE
TZID:US/Central
X-LIC-LOCATION:US/Central
BEGIN:DAYLIGHT
DTSTART:20240310T030000
TZNAME:CDT
TZOFFSETFROM:-0600
TZOFFSETTO:-0500
END:DAYLIGHT
END:VTIMEZONE
END:VCALENDAR
