BEGIN:VCALENDAR
VERSION:2.0
PRODID:-//Plone.org//NONSGML plone.app.event//EN
X-WR-TIMEZONE:US/Central
BEGIN:VEVENT
SUMMARY:Saturday Story Times
DTSTART;TZID=US/Central:20231125T110000
DTEND;TZID=US/Central:20231125T120000
DTSTAMP:20260421T142353Z
UID:c56b1086538b4f629db0174c2123968a@saas_stack_varnish:6080
CREATED:20231121T173050Z
LAST-MODIFIED:20231121T173109Z
URL:https://lebanon-laclede.ploud.net/calendar-news/events/saturday-story-
 times
END:VEVENT
BEGIN:VTIMEZONE
TZID:US/Central
X-LIC-LOCATION:US/Central
BEGIN:STANDARD
DTSTART:20231105T010000
TZNAME:CST
TZOFFSETFROM:-0500
TZOFFSETTO:-0600
END:STANDARD
END:VTIMEZONE
END:VCALENDAR
